BEGIN:VCALENDAR
VERSION:2.0
PRODID:icalendar-ruby
CALSCALE:GREGORIAN
METHOD:PUBLISH
BEGIN:VEVENT
DTSTAMP:20260419T230037Z
UID:8-1042257@gfchurch.org
DTSTART:20261011T200000Z
DTEND:20261011T220000Z
CLASS:PUBLIC
CREATED:20260419T151538
DESCRIPTION:
LAST-MODIFIED:20260419T151538
LOCATION:200 Cairns Ct\, Woodstock IL
SUMMARY:Youth 180
URL;VALUE=URI:https://gfchurch.org/events/youth-180/2026-10-11
ATTACH;FILENAME=Youth 180-1.jpeg;FMTTYPE=image/jpeg:https://dq5pwpg1q8ru0.c
 loudfront.net/2024/08/22/15/01/41/2b230cd7-e0e9-4002-b8fc-f961d0c54464/You
 th%20180-1.jpeg
ATTACH;FILENAME=DSC_4076.jpg;FMTTYPE=image/jpeg:https://dq5pwpg1q8ru0.cloud
 front.net/2024/08/26/16/10/26/8955e221-fc56-4049-9bee-06e6fed33013/DSC_407
 6.jpg
ATTACH;FILENAME=DSC_4074.jpg;FMTTYPE=image/jpeg:https://dq5pwpg1q8ru0.cloud
 front.net/2024/08/26/16/10/26/59770cbe-a799-4990-9acb-ece408a4518e/DSC_407
 4.jpg
END:VEVENT
END:VCALENDAR
